BEGIN:VCALENDAR
VERSION:2.0
PRODID:-//Sisters through Time - ECPv6.15.20//NONSGML v1.0//EN
CALSCALE:GREGORIAN
METHOD:PUBLISH
X-WR-CALNAME:Sisters through Time
X-ORIGINAL-URL:https://sistersthroughtime.com
X-WR-CALDESC:Veranstaltungen für Sisters through Time
REFRESH-INTERVAL;VALUE=DURATION:PT1H
X-Robots-Tag:noindex
X-PUBLISHED-TTL:PT1H
BEGIN:VTIMEZONE
TZID:Europe/Berlin
BEGIN:DAYLIGHT
TZOFFSETFROM:+0100
TZOFFSETTO:+0200
TZNAME:CEST
DTSTART:20240331T010000
END:DAYLIGHT
BEGIN:STANDARD
TZOFFSETFROM:+0200
TZOFFSETTO:+0100
TZNAME:CET
DTSTART:20241027T010000
END:STANDARD
BEGIN:DAYLIGHT
TZOFFSETFROM:+0100
TZOFFSETTO:+0200
TZNAME:CEST
DTSTART:20250330T010000
END:DAYLIGHT
BEGIN:STANDARD
TZOFFSETFROM:+0200
TZOFFSETTO:+0100
TZNAME:CET
DTSTART:20251026T010000
END:STANDARD
BEGIN:DAYLIGHT
TZOFFSETFROM:+0100
TZOFFSETTO:+0200
TZNAME:CEST
DTSTART:20260329T010000
END:DAYLIGHT
BEGIN:STANDARD
TZOFFSETFROM:+0200
TZOFFSETTO:+0100
TZNAME:CET
DTSTART:20261025T010000
END:STANDARD
END:VTIMEZONE
BEGIN:VEVENT
DTSTART;TZID=Europe/Berlin:20251130T000000
DTEND;TZID=Europe/Berlin:20251224T235959
DTSTAMP:20260424T182900
CREATED:20251128T093511Z
LAST-MODIFIED:20251215T093820Z
UID:1602-1764460800-1766620799@sistersthroughtime.com
SUMMARY:Brigittes Adventkalender 2025
DESCRIPTION:30.Nov\nWeihnachten beginnt im September\nBuchvorstellung\n\n\n01.Dez\nDie Sache mit dem Schenken\nGeschenktipps mit Sinn\n\n\n02.Dez\nRosis Weihnachtspläne\nBuchvorstellung\n\n\n03.Dez\nWeihnachtsfreaks : Weihnachtsmuffel\nBlogartikel\n\n\n04.Dez\nDie Sache mit den Keksen – Teil 1\nRezept – Nusszwieback für den Nikolo\n\n\n05.Dez\nAus Tante Adelheids Tagebuch\nBonusgeschichte zu „Tante Adelheids Schloss“\n\n\n06.Dez\nFesttagspläne – Vorspeisen\nRezept\n\n\n07.Dez\nCarols Christmas\nBuchvorstellung\n\n\n08.Dez\nKeine Zeit zum Lesen?\nHörbuchtipps\n\n\n09.Dez\nHistorische Bücher schenken\nGeschenktipps\n\n\n10.Dez\nMeine liebsten Weihnachtsrezepte\nWeihnachtl. Rezeptideen – gut vorzubereiten\n\n\n11.Dez\nBettina Kiraly\nBuchtipps\n\n\n12.Dez\nFesttagspläne – Hauptspeisen\nBlogartikel\n\n\n13.Dez\nMillionärin wider Willen\nBonusgeschichte zum Buch\n\n\n14.Dez\nSisters through times\nhttps://sistersthroughtime.com/advent-advent/\n\n\n15.Dez\nWeihnachten auf Mallorca\nWeihnachtl. Kurzgeschichte\n\n\n16.Dez\nWeihnachtl. Hauptspeise\nRezept\n\n\n17.Dez\nWeihnachten im Mittelalter\nBlogartikel Birgit Constant\n\n\n18.Dez\nDer Panettone\nWeihnachtlicher Kurzroman\n\n\n19.Dez\nMeine liebsten Weihnachtsrezepte\nWeihnachtl. Rezeptideen – last minute\n\n\n20.Dez\nFeiertagslektüre vorbereitet?\nBuchtipps\n\n\n21.Dez\nEine Weihnachtsgeschichte\nKurzgeschichte\n\n\n22.Dez\nDie Sache mit den Keksen – Teil 2\nRezept Rumkugeln\n\n\n23.Dez\nDurchatmen!\nWeihnachtsmusik\n\n\n24.Dez\nFrohe Weihnacht!\nGewinnspiel
URL:https://sistersthroughtime.com/event/brigittes-adventkalender-2025/
LOCATION:Facebook und Instagram
CATEGORIES:Saisonales
END:VEVENT
END:VCALENDAR