BEGIN:VCALENDAR
VERSION:2.0
PRODID:-//Sisters through Time - ECPv6.15.20//NONSGML v1.0//EN
CALSCALE:GREGORIAN
METHOD:PUBLISH
X-ORIGINAL-URL:https://sistersthroughtime.com
X-WR-CALDESC:Veranstaltungen für Sisters through Time
REFRESH-INTERVAL;VALUE=DURATION:PT1H
X-Robots-Tag:noindex
X-PUBLISHED-TTL:PT1H
BEGIN:VTIMEZONE
TZID:Europe/Berlin
BEGIN:DAYLIGHT
TZOFFSETFROM:+0100
TZOFFSETTO:+0200
TZNAME:CEST
DTSTART:20240331T010000
END:DAYLIGHT
BEGIN:STANDARD
TZOFFSETFROM:+0200
TZOFFSETTO:+0100
TZNAME:CET
DTSTART:20241027T010000
END:STANDARD
BEGIN:DAYLIGHT
TZOFFSETFROM:+0100
TZOFFSETTO:+0200
TZNAME:CEST
DTSTART:20250330T010000
END:DAYLIGHT
BEGIN:STANDARD
TZOFFSETFROM:+0200
TZOFFSETTO:+0100
TZNAME:CET
DTSTART:20251026T010000
END:STANDARD
BEGIN:DAYLIGHT
TZOFFSETFROM:+0100
TZOFFSETTO:+0200
TZNAME:CEST
DTSTART:20260329T010000
END:DAYLIGHT
BEGIN:STANDARD
TZOFFSETFROM:+0200
TZOFFSETTO:+0100
TZNAME:CET
DTSTART:20261025T010000
END:STANDARD
END:VTIMEZONE
BEGIN:VEVENT
DTSTART;TZID=Europe/Berlin:20251206T100000
DTEND;TZID=Europe/Berlin:20251208T180000
DTSTAMP:20260424T224343
CREATED:20251206T090016Z
LAST-MODIFIED:20260216T083846Z
UID:1642-1765015200-1765216800@sistersthroughtime.com
SUMMARY:Präsentation Fotografien Sabina Naber - Traismauer
DESCRIPTION:Im Rahmen des Traismaurer Adventmarktes präsentiert Sabina Naber ihre Fotoserien Photeidolons\, Monochromente\, Schattenstimmen und Spiegelungen im Alten Schlosserhaus.
URL:https://sistersthroughtime.com/event/sabina-naber-praesentiert-fotografien-in-traismauer/
LOCATION:Altes Schlossserhaus\, Florianigasse 9\, Traismauer\, Niederösterreich\, 3133\, Austria
CATEGORIES:Ausstellung
END:VEVENT
END:VCALENDAR