BEGIN:VCALENDAR
VERSION:2.0
PRODID:-//Sisters through Time - ECPv6.15.20//NONSGML v1.0//EN
CALSCALE:GREGORIAN
METHOD:PUBLISH
X-ORIGINAL-URL:https://sistersthroughtime.com
X-WR-CALDESC:Veranstaltungen für Sisters through Time
REFRESH-INTERVAL;VALUE=DURATION:PT1H
X-Robots-Tag:noindex
X-PUBLISHED-TTL:PT1H
BEGIN:VTIMEZONE
TZID:Europe/Berlin
BEGIN:DAYLIGHT
TZOFFSETFROM:+0100
TZOFFSETTO:+0200
TZNAME:CEST
DTSTART:20240331T010000
END:DAYLIGHT
BEGIN:STANDARD
TZOFFSETFROM:+0200
TZOFFSETTO:+0100
TZNAME:CET
DTSTART:20241027T010000
END:STANDARD
BEGIN:DAYLIGHT
TZOFFSETFROM:+0100
TZOFFSETTO:+0200
TZNAME:CEST
DTSTART:20250330T010000
END:DAYLIGHT
BEGIN:STANDARD
TZOFFSETFROM:+0200
TZOFFSETTO:+0100
TZNAME:CET
DTSTART:20251026T010000
END:STANDARD
BEGIN:DAYLIGHT
TZOFFSETFROM:+0100
TZOFFSETTO:+0200
TZNAME:CEST
DTSTART:20260329T010000
END:DAYLIGHT
BEGIN:STANDARD
TZOFFSETFROM:+0200
TZOFFSETTO:+0100
TZNAME:CET
DTSTART:20261025T010000
END:STANDARD
END:VTIMEZONE
BEGIN:VEVENT
DTSTART;TZID=Europe/Berlin:20251218T190000
DTEND;TZID=Europe/Berlin:20251218T203000
DTSTAMP:20260425T021827
CREATED:20251218T180042Z
LAST-MODIFIED:20251205T114655Z
UID:1334-1766084400-1766089800@sistersthroughtime.com
SUMMARY:Lesung "Festlich morden" Sabina Naber - Wien
DESCRIPTION:Gemeinsam mit Jennifer B. Wind und Daniel Carinsson präsentiert Sabina Naber die Weihnachtsanthologie „Festlich morden“ im Rahmen einer kriminell-stimmungsvollen Weihnachtslesung.
URL:https://sistersthroughtime.com/event/lesung-aus-festlich-morden-2/
LOCATION:Thalia\, Mariahilfer Straße 99\, Wien\, Wien\, 1060\, Austria
CATEGORIES:Lesung
END:VEVENT
END:VCALENDAR