BEGIN:VCALENDAR
VERSION:2.0
PRODID:-//Sisters through Time - ECPv6.15.20//NONSGML v1.0//EN
CALSCALE:GREGORIAN
METHOD:PUBLISH
X-WR-CALNAME:Sisters through Time
X-ORIGINAL-URL:https://sistersthroughtime.com
X-WR-CALDESC:Veranstaltungen für Sisters through Time
REFRESH-INTERVAL;VALUE=DURATION:PT1H
X-Robots-Tag:noindex
X-PUBLISHED-TTL:PT1H
BEGIN:VTIMEZONE
TZID:Europe/Berlin
BEGIN:DAYLIGHT
TZOFFSETFROM:+0100
TZOFFSETTO:+0200
TZNAME:CEST
DTSTART:20250330T010000
END:DAYLIGHT
BEGIN:STANDARD
TZOFFSETFROM:+0200
TZOFFSETTO:+0100
TZNAME:CET
DTSTART:20251026T010000
END:STANDARD
BEGIN:DAYLIGHT
TZOFFSETFROM:+0100
TZOFFSETTO:+0200
TZNAME:CEST
DTSTART:20260329T010000
END:DAYLIGHT
BEGIN:STANDARD
TZOFFSETFROM:+0200
TZOFFSETTO:+0100
TZNAME:CET
DTSTART:20261025T010000
END:STANDARD
BEGIN:DAYLIGHT
TZOFFSETFROM:+0100
TZOFFSETTO:+0200
TZNAME:CEST
DTSTART:20270328T010000
END:DAYLIGHT
BEGIN:STANDARD
TZOFFSETFROM:+0200
TZOFFSETTO:+0100
TZNAME:CET
DTSTART:20271031T010000
END:STANDARD
END:VTIMEZONE
BEGIN:VEVENT
DTSTART;TZID=Europe/Berlin:20260429T190000
DTEND;TZID=Europe/Berlin:20260429T210000
DTSTAMP:20260420T202224
CREATED:20260305T142916Z
LAST-MODIFIED:20260331T122548Z
UID:1863-1777489200-1777496400@sistersthroughtime.com
SUMMARY:Lesung "Primus inter Pares" Stefan Zehetner - Pitten
DESCRIPTION:Stefan Zehetner liest aus seinen bereits erschienenen Büchern aus der Reihe „Primus inter Pares“ – „Der Usurpator“ und „Die Feinde des Vaterlandes“ – im Museum PIZ1000 in Pitten. Zusätzlich gibt es Hintergrundinformationen über die Region und deren antikes Bild\, über die römische Geschichte und das römische Heerwesen. Beginn ist um 19:00 Uhr. Eintritt: Freie Spende. \n  \nACHTUNG: Terminänderung! \nAufgrund einer Terminkollision muss die Lesung von 25. April 2026 auf den 29. April 2026 verschoben werden. Ort und Zeit bleiben die selben.
URL:https://sistersthroughtime.com/event/lesung-primus-inter-pares-stefan-zehetner-pitten/
LOCATION:Museum PIZ1000\, Wiener Neustädter Straße 24\, Pitten\, Niederösterreich\, 2823\, Austria
CATEGORIES:Lesung
ORGANIZER;CN="Museum PIZ1000":MAILTO:piz1000@pitten.at
END:VEVENT
END:VCALENDAR